BEGIN:VCALENDAR
VERSION:2.0
PRODID:-//Leigh Bardugo - ECPv6.15.20//NONSGML v1.0//EN
CALSCALE:GREGORIAN
METHOD:PUBLISH
X-ORIGINAL-URL:https://www.leighbardugo.com
X-WR-CALDESC:Events for Leigh Bardugo
REFRESH-INTERVAL;VALUE=DURATION:PT1H
X-Robots-Tag:noindex
X-PUBLISHED-TTL:PT1H
BEGIN:VTIMEZONE
TZID:America/Los_Angeles
BEGIN:DAYLIGHT
TZOFFSETFROM:-0800
TZOFFSETTO:-0700
TZNAME:PDT
DTSTART:20230312T100000
END:DAYLIGHT
BEGIN:STANDARD
TZOFFSETFROM:-0700
TZOFFSETTO:-0800
TZNAME:PST
DTSTART:20231105T090000
END:STANDARD
BEGIN:DAYLIGHT
TZOFFSETFROM:-0800
TZOFFSETTO:-0700
TZNAME:PDT
DTSTART:20240310T100000
END:DAYLIGHT
BEGIN:STANDARD
TZOFFSETFROM:-0700
TZOFFSETTO:-0800
TZNAME:PST
DTSTART:20241103T090000
END:STANDARD
BEGIN:DAYLIGHT
TZOFFSETFROM:-0800
TZOFFSETTO:-0700
TZNAME:PDT
DTSTART:20250309T100000
END:DAYLIGHT
BEGIN:STANDARD
TZOFFSETFROM:-0700
TZOFFSETTO:-0800
TZNAME:PST
DTSTART:20251102T090000
END:STANDARD
BEGIN:DAYLIGHT
TZOFFSETFROM:-0800
TZOFFSETTO:-0700
TZNAME:PDT
DTSTART:20260308T100000
END:DAYLIGHT
BEGIN:STANDARD
TZOFFSETFROM:-0700
TZOFFSETTO:-0800
TZNAME:PST
DTSTART:20261101T090000
END:STANDARD
BEGIN:DAYLIGHT
TZOFFSETFROM:-0800
TZOFFSETTO:-0700
TZNAME:PDT
DTSTART:20270314T100000
END:DAYLIGHT
BEGIN:STANDARD
TZOFFSETFROM:-0700
TZOFFSETTO:-0800
TZNAME:PST
DTSTART:20271107T090000
END:STANDARD
END:VTIMEZONE
BEGIN:VTIMEZONE
TZID:America/Boise
BEGIN:DAYLIGHT
TZOFFSETFROM:-0700
TZOFFSETTO:-0600
TZNAME:MDT
DTSTART:20240310T090000
END:DAYLIGHT
BEGIN:STANDARD
TZOFFSETFROM:-0600
TZOFFSETTO:-0700
TZNAME:MST
DTSTART:20241103T080000
END:STANDARD
BEGIN:DAYLIGHT
TZOFFSETFROM:-0700
TZOFFSETTO:-0600
TZNAME:MDT
DTSTART:20250309T090000
END:DAYLIGHT
BEGIN:STANDARD
TZOFFSETFROM:-0600
TZOFFSETTO:-0700
TZNAME:MST
DTSTART:20251102T080000
END:STANDARD
BEGIN:DAYLIGHT
TZOFFSETFROM:-0700
TZOFFSETTO:-0600
TZNAME:MDT
DTSTART:20260308T090000
END:DAYLIGHT
BEGIN:STANDARD
TZOFFSETFROM:-0600
TZOFFSETTO:-0700
TZNAME:MST
DTSTART:20261101T080000
END:STANDARD
END:VTIMEZONE
BEGIN:VTIMEZONE
TZID:America/New_York
BEGIN:DAYLIGHT
TZOFFSETFROM:-0500
TZOFFSETTO:-0400
TZNAME:EDT
DTSTART:20230312T070000
END:DAYLIGHT
BEGIN:STANDARD
TZOFFSETFROM:-0400
TZOFFSETTO:-0500
TZNAME:EST
DTSTART:20231105T060000
END:STANDARD
BEGIN:DAYLIGHT
TZOFFSETFROM:-0500
TZOFFSETTO:-0400
TZNAME:EDT
DTSTART:20240310T070000
END:DAYLIGHT
BEGIN:STANDARD
TZOFFSETFROM:-0400
TZOFFSETTO:-0500
TZNAME:EST
DTSTART:20241103T060000
END:STANDARD
BEGIN:DAYLIGHT
TZOFFSETFROM:-0500
TZOFFSETTO:-0400
TZNAME:EDT
DTSTART:20250309T070000
END:DAYLIGHT
BEGIN:STANDARD
TZOFFSETFROM:-0400
TZOFFSETTO:-0500
TZNAME:EST
DTSTART:20251102T060000
END:STANDARD
BEGIN:DAYLIGHT
TZOFFSETFROM:-0500
TZOFFSETTO:-0400
TZNAME:EDT
DTSTART:20260308T070000
END:DAYLIGHT
BEGIN:STANDARD
TZOFFSETFROM:-0400
TZOFFSETTO:-0500
TZNAME:EST
DTSTART:20261101T060000
END:STANDARD
END:VTIMEZONE
BEGIN:VTIMEZONE
TZID:America/North_Dakota/Center
BEGIN:DAYLIGHT
TZOFFSETFROM:-0600
TZOFFSETTO:-0500
TZNAME:CDT
DTSTART:20240310T080000
END:DAYLIGHT
BEGIN:STANDARD
TZOFFSETFROM:-0500
TZOFFSETTO:-0600
TZNAME:CST
DTSTART:20241103T070000
END:STANDARD
BEGIN:DAYLIGHT
TZOFFSETFROM:-0600
TZOFFSETTO:-0500
TZNAME:CDT
DTSTART:20250309T080000
END:DAYLIGHT
BEGIN:STANDARD
TZOFFSETFROM:-0500
TZOFFSETTO:-0600
TZNAME:CST
DTSTART:20251102T070000
END:STANDARD
BEGIN:DAYLIGHT
TZOFFSETFROM:-0600
TZOFFSETTO:-0500
TZNAME:CDT
DTSTART:20260308T080000
END:DAYLIGHT
BEGIN:STANDARD
TZOFFSETFROM:-0500
TZOFFSETTO:-0600
TZNAME:CST
DTSTART:20261101T070000
END:STANDARD
END:VTIMEZONE
BEGIN:VTIMEZONE
TZID:America/Chicago
BEGIN:DAYLIGHT
TZOFFSETFROM:-0600
TZOFFSETTO:-0500
TZNAME:CDT
DTSTART:20230312T080000
END:DAYLIGHT
BEGIN:STANDARD
TZOFFSETFROM:-0500
TZOFFSETTO:-0600
TZNAME:CST
DTSTART:20231105T070000
END:STANDARD
BEGIN:DAYLIGHT
TZOFFSETFROM:-0600
TZOFFSETTO:-0500
TZNAME:CDT
DTSTART:20240310T080000
END:DAYLIGHT
BEGIN:STANDARD
TZOFFSETFROM:-0500
TZOFFSETTO:-0600
TZNAME:CST
DTSTART:20241103T070000
END:STANDARD
BEGIN:DAYLIGHT
TZOFFSETFROM:-0600
TZOFFSETTO:-0500
TZNAME:CDT
DTSTART:20250309T080000
END:DAYLIGHT
BEGIN:STANDARD
TZOFFSETFROM:-0500
TZOFFSETTO:-0600
TZNAME:CST
DTSTART:20251102T070000
END:STANDARD
BEGIN:DAYLIGHT
TZOFFSETFROM:-0600
TZOFFSETTO:-0500
TZNAME:CDT
DTSTART:20260308T080000
END:DAYLIGHT
BEGIN:STANDARD
TZOFFSETFROM:-0500
TZOFFSETTO:-0600
TZNAME:CST
DTSTART:20261101T070000
END:STANDARD
END:VTIMEZONE
BEGIN:VTIMEZONE
TZID:Europe/Rome
BEGIN:DAYLIGHT
TZOFFSETFROM:+0100
TZOFFSETTO:+0200
TZNAME:CEST
DTSTART:20230326T010000
END:DAYLIGHT
BEGIN:STANDARD
TZOFFSETFROM:+0200
TZOFFSETTO:+0100
TZNAME:CET
DTSTART:20231029T010000
END:STANDARD
BEGIN:DAYLIGHT
TZOFFSETFROM:+0100
TZOFFSETTO:+0200
TZNAME:CEST
DTSTART:20240331T010000
END:DAYLIGHT
BEGIN:STANDARD
TZOFFSETFROM:+0200
TZOFFSETTO:+0100
TZNAME:CET
DTSTART:20241027T010000
END:STANDARD
BEGIN:DAYLIGHT
TZOFFSETFROM:+0100
TZOFFSETTO:+0200
TZNAME:CEST
DTSTART:20250330T010000
END:DAYLIGHT
BEGIN:STANDARD
TZOFFSETFROM:+0200
TZOFFSETTO:+0100
TZNAME:CET
DTSTART:20251026T010000
END:STANDARD
END:VTIMEZONE
BEGIN:VTIMEZONE
TZID:Europe/Madrid
BEGIN:DAYLIGHT
TZOFFSETFROM:+0100
TZOFFSETTO:+0200
TZNAME:CEST
DTSTART:20230326T010000
END:DAYLIGHT
BEGIN:STANDARD
TZOFFSETFROM:+0200
TZOFFSETTO:+0100
TZNAME:CET
DTSTART:20231029T010000
END:STANDARD
BEGIN:DAYLIGHT
TZOFFSETFROM:+0100
TZOFFSETTO:+0200
TZNAME:CEST
DTSTART:20240331T010000
END:DAYLIGHT
BEGIN:STANDARD
TZOFFSETFROM:+0200
TZOFFSETTO:+0100
TZNAME:CET
DTSTART:20241027T010000
END:STANDARD
BEGIN:DAYLIGHT
TZOFFSETFROM:+0100
TZOFFSETTO:+0200
TZNAME:CEST
DTSTART:20250330T010000
END:DAYLIGHT
BEGIN:STANDARD
TZOFFSETFROM:+0200
TZOFFSETTO:+0100
TZNAME:CET
DTSTART:20251026T010000
END:STANDARD
END:VTIMEZONE
BEGIN:VTIMEZONE
TZID:Europe/Berlin
BEGIN:DAYLIGHT
TZOFFSETFROM:+0100
TZOFFSETTO:+0200
TZNAME:CEST
DTSTART:20230326T010000
END:DAYLIGHT
BEGIN:STANDARD
TZOFFSETFROM:+0200
TZOFFSETTO:+0100
TZNAME:CET
DTSTART:20231029T010000
END:STANDARD
BEGIN:DAYLIGHT
TZOFFSETFROM:+0100
TZOFFSETTO:+0200
TZNAME:CEST
DTSTART:20240331T010000
END:DAYLIGHT
BEGIN:STANDARD
TZOFFSETFROM:+0200
TZOFFSETTO:+0100
TZNAME:CET
DTSTART:20241027T010000
END:STANDARD
BEGIN:DAYLIGHT
TZOFFSETFROM:+0100
TZOFFSETTO:+0200
TZNAME:CEST
DTSTART:20250330T010000
END:DAYLIGHT
BEGIN:STANDARD
TZOFFSETFROM:+0200
TZOFFSETTO:+0100
TZNAME:CET
DTSTART:20251026T010000
END:STANDARD
END:VTIMEZONE
BEGIN:VTIMEZONE
TZID:Europe/London
BEGIN:DAYLIGHT
TZOFFSETFROM:+0000
TZOFFSETTO:+0100
TZNAME:BST
DTSTART:20230326T010000
END:DAYLIGHT
BEGIN:STANDARD
TZOFFSETFROM:+0100
TZOFFSETTO:+0000
TZNAME:GMT
DTSTART:20231029T010000
END:STANDARD
BEGIN:DAYLIGHT
TZOFFSETFROM:+0000
TZOFFSETTO:+0100
TZNAME:BST
DTSTART:20240331T010000
END:DAYLIGHT
BEGIN:STANDARD
TZOFFSETFROM:+0100
TZOFFSETTO:+0000
TZNAME:GMT
DTSTART:20241027T010000
END:STANDARD
BEGIN:DAYLIGHT
TZOFFSETFROM:+0000
TZOFFSETTO:+0100
TZNAME:BST
DTSTART:20250330T010000
END:DAYLIGHT
BEGIN:STANDARD
TZOFFSETFROM:+0100
TZOFFSETTO:+0000
TZNAME:GMT
DTSTART:20251026T010000
END:STANDARD
END:VTIMEZONE
BEGIN:VTIMEZONE
TZID:UTC
BEGIN:STANDARD
TZOFFSETFROM:+0000
TZOFFSETTO:+0000
TZNAME:UTC
DTSTART:20220101T000000
END:STANDARD
END:VTIMEZONE
BEGIN:VEVENT
DTSTART;TZID=America/Los_Angeles:20260419T123000
DTEND;TZID=America/Los_Angeles:20260419T153000
DTSTAMP:20260422T022507
CREATED:20260409T063854Z
LAST-MODIFIED:20260409T063854Z
UID:13385-1776601800-1776612600@www.leighbardugo.com
SUMMARY:BookCon NYC
DESCRIPTION:
URL:https://www.leighbardugo.com/event/bookcon-nyc/
LOCATION:Javits Center\, 429 11th Ave\,\, New York\, NY\, 10001
END:VEVENT
BEGIN:VEVENT
DTSTART;TZID=America/Boise:20251003T190000
DTEND;TZID=America/Boise:20251003T203000
DTSTAMP:20260422T022507
CREATED:20250626T155555Z
LAST-MODIFIED:20250719T014129Z
UID:13160-1759518000-1759523400@www.leighbardugo.com
SUMMARY:In Conversation with Brandon Sanderson
DESCRIPTION:
URL:https://www.leighbardugo.com/event/leigh-bardugo-x-brandon-sanderson/
LOCATION:The First Baptist Church of Salt Lake City\, Salt Lake City\, UT\, United States
CATEGORIES:Six of Crows Dregs Edition
END:VEVENT
BEGIN:VEVENT
DTSTART;TZID=America/New_York:20250930T190000
DTEND;TZID=America/New_York:20250930T210000
DTSTAMP:20260422T022507
CREATED:20250626T155426Z
LAST-MODIFIED:20250719T014214Z
UID:13158-1759258800-1759266000@www.leighbardugo.com
SUMMARY:In Conversation with T. Kingfisher
DESCRIPTION:
URL:https://www.leighbardugo.com/event/leigh-bardugo-author-event/
LOCATION:Cleary’s Bookstore\, Mount Holly\, NC\, United States
CATEGORIES:Six of Crows Dregs Edition
END:VEVENT
BEGIN:VEVENT
DTSTART;TZID=America/New_York:20250929T190000
DTEND;TZID=America/New_York:20250929T210000
DTSTAMP:20260422T022507
CREATED:20250626T155142Z
LAST-MODIFIED:20250719T014233Z
UID:13156-1759172400-1759179600@www.leighbardugo.com
SUMMARY:In Conversation with Alix Harrow
DESCRIPTION:
URL:https://www.leighbardugo.com/event/leigh-bardugo-in-conversation-with-alix-harrow/
LOCATION:Sixth & I\, Washington\, DC\, United States
CATEGORIES:Six of Crows Dregs Edition
END:VEVENT
BEGIN:VEVENT
DTSTART;TZID=America/Boise:20250926T080000
DTEND;TZID=America/Boise:20250927T170000
DTSTAMP:20260422T022507
CREATED:20250626T154958Z
LAST-MODIFIED:20250626T155231Z
UID:13155-1758873600-1758992400@www.leighbardugo.com
SUMMARY:Aspen Literary Festival
DESCRIPTION:
URL:https://www.leighbardugo.com/event/aspen-literary-festival/
LOCATION:NY
CATEGORIES:Six of Crows Dregs Edition
END:VEVENT
BEGIN:VEVENT
DTSTART;VALUE=DATE:20250906
DTEND;VALUE=DATE:20250907
DTSTAMP:20260422T022507
CREATED:20250719T015504Z
LAST-MODIFIED:20250719T015504Z
UID:13174-1757116800-1757203199@www.leighbardugo.com
SUMMARY:National Book Festival
DESCRIPTION:
URL:https://www.leighbardugo.com/event/national-book-festival/
LOCATION:Walter E. Washington Convention Center\, Washington\, DC\, United States
END:VEVENT
BEGIN:VEVENT
DTSTART;TZID=America/Los_Angeles:20250831T160000
DTEND;TZID=America/Los_Angeles:20250831T180000
DTSTAMP:20260422T022507
CREATED:20250626T154400Z
LAST-MODIFIED:20250719T014427Z
UID:13151-1756656000-1756663200@www.leighbardugo.com
SUMMARY:Conversation and Signing
DESCRIPTION:
URL:https://www.leighbardugo.com/event/leigh-bardugo-john-picacio-discuss-sign-the-invisible-parade/
LOCATION:Vroman’s Bookstore\, Pasadena\, CA\, 91101\, United States
CATEGORIES:The Invisible Parade
END:VEVENT
BEGIN:VEVENT
DTSTART;TZID=America/North_Dakota/Center:20250830T140000
DTEND;TZID=America/North_Dakota/Center:20250830T160000
DTSTAMP:20260422T022507
CREATED:20250626T154531Z
LAST-MODIFIED:20250719T014506Z
UID:13153-1756562400-1756569600@www.leighbardugo.com
SUMMARY:Conversation and Signing
DESCRIPTION:
URL:https://www.leighbardugo.com/event/leigh-bardugo-john-picacio-present-the-invisible-parade/
LOCATION:Texas Public Radio\, San Antonio\, TX\, 78205\, United States
CATEGORIES:The Invisible Parade
END:VEVENT
BEGIN:VEVENT
DTSTART;TZID=America/North_Dakota/Center:20250829T190000
DTEND;TZID=America/North_Dakota/Center:20250829T210000
DTSTAMP:20260422T022507
CREATED:20250626T154153Z
LAST-MODIFIED:20250719T014534Z
UID:13149-1756494000-1756501200@www.leighbardugo.com
SUMMARY:Conversation and Signing
DESCRIPTION:
URL:https://www.leighbardugo.com/event/leigh-bardugo-john-picacio-invisible-parade/
LOCATION:St. Thomas Presbyterian Church PC\, Houston\, TX\, 77079\, United States
CATEGORIES:The Invisible Parade
END:VEVENT
BEGIN:VEVENT
DTSTART;TZID=America/Chicago:20250827T190000
DTEND;TZID=America/Chicago:20250827T210000
DTSTAMP:20260422T022507
CREATED:20250626T153822Z
LAST-MODIFIED:20250719T014547Z
UID:13147-1756321200-1756328400@www.leighbardugo.com
SUMMARY:Conversation and Signing
DESCRIPTION:
URL:https://www.leighbardugo.com/event/author-event-with-leigh-bardugo-john-picacio-the-invisible-parade/
LOCATION:Wentz Concert Hall on the campus of North Central College\, Naperville\, IL\, United States
CATEGORIES:The Invisible Parade
END:VEVENT
BEGIN:VEVENT
DTSTART;TZID=America/New_York:20250826T183000
DTEND;TZID=America/New_York:20250826T200000
DTSTAMP:20260422T022507
CREATED:20250626T153612Z
LAST-MODIFIED:20250721T235856Z
UID:13145-1756233000-1756238400@www.leighbardugo.com
SUMMARY:Conversation and Signing
DESCRIPTION:
URL:https://www.leighbardugo.com/event/leigh-bardugo-and-john-picacio/
LOCATION:An Unlikely Story\, 111 South St.\, Plainville\, MA\, 02762\, United States
CATEGORIES:The Invisible Parade
END:VEVENT
BEGIN:VEVENT
DTSTART;TZID=America/New_York:20250825T180000
DTEND;TZID=America/New_York:20250825T200000
DTSTAMP:20260422T022507
CREATED:20250626T152839Z
LAST-MODIFIED:20250719T014606Z
UID:13144-1756144800-1756152000@www.leighbardugo.com
SUMMARY:Conversation and Signing
DESCRIPTION:
URL:https://www.leighbardugo.com/event/leigh-bardugo-john-picacio-celebrate-the-invisible-parade-at-bn/
LOCATION:Barnes & Noble Union Square\, New York City\, New York\, 10003
CATEGORIES:The Invisible Parade
END:VEVENT
BEGIN:VEVENT
DTSTART;TZID=America/Los_Angeles:20250816T080000
DTEND;TZID=America/Los_Angeles:20250817T170000
DTSTAMP:20260422T022507
CREATED:20250626T152703Z
LAST-MODIFIED:20250719T015355Z
UID:13143-1755331200-1755450000@www.leighbardugo.com
SUMMARY:Seattle Worldcon
DESCRIPTION:Panels and Autograph session\nDetails to come
URL:https://www.leighbardugo.com/event/seattle-worldcon-2025-w-john-picacio/
LOCATION:Seattle Convention Center–Summit\, Seattle\, WA\, United States
CATEGORIES:The Invisible Parade
END:VEVENT
BEGIN:VEVENT
DTSTART;TZID=America/Los_Angeles:20250814T180000
DTEND;TZID=America/Los_Angeles:20250814T200000
DTSTAMP:20260422T022507
CREATED:20250719T015204Z
LAST-MODIFIED:20250721T235606Z
UID:13171-1755194400-1755201600@www.leighbardugo.com
SUMMARY:Signing Only
DESCRIPTION:
URL:https://www.leighbardugo.com/event/signing-only/
LOCATION:Third Place Books at Lake Forest Park\, Lake Forest Park\, WA\, United States
END:VEVENT
BEGIN:VEVENT
DTSTART;TZID=America/New_York:20250715T190000
DTEND;TZID=America/New_York:20250715T210000
DTSTAMP:20260422T022507
CREATED:20250626T152240Z
LAST-MODIFIED:20250719T014758Z
UID:13140-1752606000-1752613200@www.leighbardugo.com
SUMMARY:Conversation and Signing
DESCRIPTION:
URL:https://www.leighbardugo.com/event/book-talk-and-signing-with-bestselling-author-leigh-bardugo/
LOCATION:Bunch of Grapes Bookstore\, Vineyard Haven\, MA\, 02568\, United States
CATEGORIES:The Familiar
END:VEVENT
BEGIN:VEVENT
DTSTART;TZID=America/Los_Angeles:20240908T170000
DTEND;TZID=America/Los_Angeles:20240908T190000
DTSTAMP:20260422T022507
CREATED:20240822T215625Z
LAST-MODIFIED:20240822T215855Z
UID:13075-1725814800-1725822000@www.leighbardugo.com
SUMMARY:Sarah Brennan with Leigh Bardugo\, Long Live Evil
DESCRIPTION:
URL:https://www.leighbardugo.com/event/sarah-brennan-with-leigh-bardugo-long-live-evil/
LOCATION:Bookshop Santa Cruz\, 1520 Pacific Avenue\, Santa Cruz\, CA\, 95060
END:VEVENT
BEGIN:VEVENT
DTSTART;TZID=America/Los_Angeles:20240829T190000
DTEND;TZID=America/Los_Angeles:20240829T210000
DTSTAMP:20260422T022507
CREATED:20240822T215411Z
LAST-MODIFIED:20240822T215411Z
UID:13074-1724958000-1724965200@www.leighbardugo.com
SUMMARY:At Barnsdall Gallery Theatre: Calahan Skogman presents Blue Graffiti w/ Leigh Bardugo
DESCRIPTION:
URL:https://www.leighbardugo.com/event/at-barnsdall-gallery-theatre-calahan-skogman-presents-blue-graffiti-w-leigh-bardugo/
LOCATION:Barnsdall Gallery Theatre\, 4814 Hollywood Boulevard\, Los Angeles\, CA\, 90027
END:VEVENT
BEGIN:VEVENT
DTSTART;TZID=Europe/Rome:20240611T180000
DTEND;TZID=Europe/Rome:20240611T180000
DTSTAMP:20260422T022507
CREATED:20240606T183050Z
LAST-MODIFIED:20240606T183050Z
UID:13050-1718128800-1718128800@www.leighbardugo.com
SUMMARY:Leigh Bardugo at Manzoni Theatre
DESCRIPTION:
URL:https://www.leighbardugo.com/event/leigh-bardugo-at-manzoni-theatre/
LOCATION:Teatro Manzoni\, Via Alessandro Manzoni\, 42\, Milan\, 20121
CATEGORIES:The Familiar
END:VEVENT
BEGIN:VEVENT
DTSTART;TZID=Europe/Madrid:20240608T120000
DTEND;TZID=Europe/Madrid:20240608T120000
DTSTAMP:20260422T022507
CREATED:20240606T181532Z
LAST-MODIFIED:20240606T181532Z
UID:13048-1717848000-1717848000@www.leighbardugo.com
SUMMARY:Leigh Bardugo in Madrid
DESCRIPTION:
URL:https://www.leighbardugo.com/event/leigh-bardugo-in-madrid/
LOCATION:Palacio de la Prensa\, Gran Vía 46\, Madrid\, Spain
CATEGORIES:The Familiar
END:VEVENT
BEGIN:VEVENT
DTSTART;TZID=Europe/Berlin:20240606T200000
DTEND;TZID=Europe/Berlin:20240606T230000
DTSTAMP:20260422T022507
CREATED:20240606T175757Z
LAST-MODIFIED:20240606T175938Z
UID:13044-1717704000-1717714800@www.leighbardugo.com
SUMMARY:Exclusive Signing: Leigh Bardugo
DESCRIPTION:SOLD OUT
URL:https://www.leighbardugo.com/event/exclusive-signing-leigh-bardugo/
LOCATION:Hugendubel\, Karlsplatz 11-12\, Munich\, 80335\, Germany
CATEGORIES:The Familiar
END:VEVENT
BEGIN:VEVENT
DTSTART;TZID=Europe/London:20240426T190000
DTEND;TZID=Europe/London:20240426T190000
DTSTAMP:20260422T022507
CREATED:20240229T013202Z
LAST-MODIFIED:20240229T150826Z
UID:12944-1714158000-1714158000@www.leighbardugo.com
SUMMARY:An Evening with Leigh Bardugo at Union Chapel\, London
DESCRIPTION:SOLD OUT
URL:https://www.leighbardugo.com/event/an-evening-with-leigh-bardugo-at-union-chapel-london/
LOCATION:Union Chapel\, London\, N1 2UN\, United Kingdom
CATEGORIES:The Familiar
END:VEVENT
BEGIN:VEVENT
DTSTART;TZID=Europe/London:20240425T190000
DTEND;TZID=Europe/London:20240425T190000
DTSTAMP:20260422T022507
CREATED:20240229T012116Z
LAST-MODIFIED:20240229T190127Z
UID:12939-1714071600-1714071600@www.leighbardugo.com
SUMMARY:The Familiar with Leigh Bardugo
DESCRIPTION:SOLD OUT
URL:https://www.leighbardugo.com/event/the-familiar-with-leigh-bardugo/
LOCATION:St. Swithin’s Church\, Bath\, BA1 5LY\, United Kingdom
CATEGORIES:The Familiar
ORGANIZER;CN="Mr. B's Emporium":MAILTO:books@mrbsemporium.com
END:VEVENT
BEGIN:VEVENT
DTSTART;TZID=America/Los_Angeles:20240420T160000
DTEND;TZID=America/Los_Angeles:20240420T160000
DTSTAMP:20260422T022507
CREATED:20240229T010828Z
LAST-MODIFIED:20240229T160758Z
UID:12935-1713628800-1713628800@www.leighbardugo.com
SUMMARY:Leigh Bardugo - The Familiar
DESCRIPTION:SOLD OUT  \nThis event will be hosted in-person at Book Passage’s Corte Madera Store. Please contact webmaster@bookpassage.com with questions regarding events.
URL:https://www.leighbardugo.com/event/leigh-bardugo-the-familiar/
LOCATION:Book Passage (Corte Madera Store)\, Corte Madera\, CA\, 94925\, United States
CATEGORIES:The Familiar
ORGANIZER;CN="Book Passage Corte Madera":MAILTO:webmaster@bookpassage.com
END:VEVENT
BEGIN:VEVENT
DTSTART;TZID=America/Los_Angeles:20240419T193000
DTEND;TZID=America/Los_Angeles:20240419T193000
DTSTAMP:20260422T022507
CREATED:20240322T203359Z
LAST-MODIFIED:20240322T203359Z
UID:12967-1713555000-1713555000@www.leighbardugo.com
SUMMARY:City Arts & Lectures: Leigh Bardugo
DESCRIPTION:City Arts & Lectures \nLive and on public radio
URL:https://www.leighbardugo.com/event/city-arts-lectures-leigh-bardugo/
LOCATION:Sydney Goldstein Theater\, San Francisco\, CA\, 94102
END:VEVENT
BEGIN:VEVENT
DTSTART;TZID=America/Chicago:20240418T193000
DTEND;TZID=America/Chicago:20240418T193000
DTSTAMP:20260422T022507
CREATED:20240322T202825Z
LAST-MODIFIED:20240322T202929Z
UID:12964-1713468600-1713468600@www.leighbardugo.com
SUMMARY:Arts & Letters Live: Leigh Bardugo
DESCRIPTION:Dallas Museum of Art – Arts & Letters Live
URL:https://www.leighbardugo.com/event/arts-letters-live-leigh-bardugo/
LOCATION:Dallas Museum of Art\, Dallas\, TX\, 75201
CATEGORIES:The Familiar
END:VEVENT
BEGIN:VEVENT
DTSTART;TZID=America/Chicago:20240415T190000
DTEND;TZID=America/Chicago:20240415T190000
DTSTAMP:20260422T022507
CREATED:20240222T191245Z
LAST-MODIFIED:20240229T160648Z
UID:12910-1713207600-1713207600@www.leighbardugo.com
SUMMARY:Leigh Bardugo "Offsite and Ticketed"
DESCRIPTION:SOLD OUT \n ***Please note: This event will take place at St. Andrew’s Presbyterian Church. Tickets include a copy of The Familiar\, which will be handed out upon entry to the event.
URL:https://www.leighbardugo.com/event/leigh-bardugo-offsite-and-ticketed/
LOCATION:St. Andrew’s Presbyterian Church\, Houston\, Texas
CATEGORIES:The Familiar
END:VEVENT
BEGIN:VEVENT
DTSTART;TZID=America/Chicago:20240412T180000
DTEND;TZID=America/Chicago:20240412T180000
DTSTAMP:20260422T022507
CREATED:20240206T073622Z
LAST-MODIFIED:20240205T234126Z
UID:12868-1712944800-1712944800@www.leighbardugo.com
SUMMARY:Boswell Book Company and UWM Student Union and Geek Week present an evening with Leigh Bardugo!
DESCRIPTION:***Please note: This event will take place at the UWM Student Union. Each ticket includes a hardcover copy of The Familiar\, which will be handed out upon entry into the event.
URL:https://www.leighbardugo.com/event/boswell-book-company-and-uwm-student-union-and-geek-week-present-an-evening-with-leigh-bardugo/
LOCATION:UWM Union\, Milwaukee\, WI
CATEGORIES:The Familiar
END:VEVENT
BEGIN:VEVENT
DTSTART;TZID=America/New_York:20240410T180000
DTEND;TZID=America/New_York:20240410T200000
DTSTAMP:20260422T022507
CREATED:20240206T072721Z
LAST-MODIFIED:20240229T160859Z
UID:12864-1712772000-1712779200@www.leighbardugo.com
SUMMARY:Book Launch: Leigh Bardugo's The Familiar
DESCRIPTION:Mechanics’ Hall Presents w/ PRINT: A Bookstore at Stevens Square Community Center
URL:https://www.leighbardugo.com/event/book-launch-leigh-bardugos-the-familiar/
LOCATION:Steven’s Community Center\, Portland\, ME\, 04103
CATEGORIES:The Familiar
END:VEVENT
BEGIN:VEVENT
DTSTART;TZID=America/New_York:20240409T180000
DTEND;TZID=America/New_York:20240409T180000
DTSTAMP:20260422T022507
CREATED:20240206T072357Z
LAST-MODIFIED:20240229T161011Z
UID:12861-1712685600-1712685600@www.leighbardugo.com
SUMMARY:Leigh Bardugo celebrates THE FAMILIAR at B&N Union Square
DESCRIPTION:SOLD OUT \nBarnes & Noble Union Square welcomes Leigh Bardugo to celebrate THE FAMILIAR on Tuesday\, April 9th at 6PM
URL:https://www.leighbardugo.com/event/leigh-bardugo-celebrates-the-familiar-at-bn-union-square/
LOCATION:Barnes & Noble Union Square\, New York City\, New York\, 10003
CATEGORIES:The Familiar
END:VEVENT
BEGIN:VEVENT
DTSTART;TZID=UTC:20230111T180000
DTEND;TZID=UTC:20230111T200000
DTSTAMP:20260422T022507
CREATED:20231003T003357Z
LAST-MODIFIED:20231003T003357Z
UID:12784-1673460000-1673467200@www.leighbardugo.com
SUMMARY:Changing Hands Bookstore Presents Hell Bent by Leigh Bardugo
DESCRIPTION:PLEASE NOTE: Registration required. Each ticket includes one (1) general admission seat and one (1) copy of Hell Bent. These books will be presigned and distributed to attendees on entry. After the presentation\, Ms. Bardugo will personalize one (1) copy of Hell Bent or personalize and sign one (1) book or item of the ticket-holder’s choice.
URL:https://www.leighbardugo.com/event/changing-hands-hell-bent/
LOCATION:Changing Hands Bookstore\, 6428 South McClintock Drive\, Tempe\, AZ\, United States
ATTACH;FMTTYPE=image/jpeg:https://www.leighbardugo.com/wp-content/uploads/2023/10/eventbrite-name-1600x800-17.jpg
END:VEVENT
END:VCALENDAR